dset /data/raid2/users/MIRAGE-input/meteo-n110x95/meteo3d-72-2k6.n110x95.nc
dtype netcdf
title WRF MIRAGE main domain
undef -99999.0
xdef 110 linear -106.3623 0.1185742
ydef 95 levels 15.63625 15.75040 15.86449 15.97852 16.09248 16.20638 16.32021 16.43397 16.54766 16.66129 16.77486 16.88835 17.00178 17.11514 17.22842 17.34164 17.45479 17.56787 17.68088 17.79382 17.90668 18.01948 18.13219 18.24485 18.35742 18.46992 18.58236 18.69472 18.80699 18.91920 19.03133 19.14339 19.25536 19.36727 19.47910 19.59085 19.70251 19.81411 19.92562 20.03706 20.14841 20.25970 20.37090 20.48201 20.59306 20.70401 20.81489 20.92568 21.03639 21.14703 21.25757 21.36804 21.47842 21.58871 21.69893 21.80906 21.91911 22.02907 22.13894 22.24873 22.35843 22.46805 22.57758 22.68702 22.79638 22.90565 23.01483 23.12392 23.23293 23.34184 23.45066 23.55940 23.66805 23.77660 23.88506 23.99344 24.10172 24.20992 24.31801 24.42602 24.53394 24.64175 24.74949 24.85712 24.96466 25.07211 25.17947 25.28673 25.39389 25.50097 25.60794 25.71482 25.82160 25.92829 26.03488
zdef 21 levels 8.05653 28.2116 60.5102 121.273 243.749 450.616 746.467 1093.96 1500.06 2018.99 2614.64 3246.47 3920.92 4645.64 5428.62 6279.77 7212.91 8344.93 9854.04 11966 14817.4
*in GMT
tdef 2721 linear 18Z13MAR2006 3hr
vars 11
U=>u 21 t,z,y,x U (m/s)
V=>v 21 t,z,y,x V
W=>w 21 t,z,y,x W
T=>temp 21 t,z,y,x T(k)
P=>p 21 t,z,y,x P (Pa)
CLDFRA=>cldfra 21 t,z,y,x Cloud Fraction
KV=>kv 21 t,z,y,x Horizontal diffusion coefficint (m/s^2)
KH=>kh 21 t,z,y,x Vertical diffusion coefficint (m/s^2)
RWATER=>rw 21 t,z,y,x Rain water mixing rate (kg/kg)
CWATER=>cw 21 t,z,y,x Cloud water mixing rate (kg/kg)
VAPOR=>vapor 21 t,z,y,x water vapor mixing ration (kg/kg)
endvars
