dset /data/raid2/users/MIRAGE-output/03-02-n110x95/SOUT.%m2-%d2-00.nc
dtype netcdf
title 3D STEM gaseous species
undef -99999.0
options template
xdef 110 linear -106.3623 0.1185742
ydef 95 levels 15.63625 15.75040 15.86449 15.97852 16.09248 16.20638 16.32021 16.43397 16.54766 16.66129 16.77486 16.88835 17.00178 17.11514 17.22842 17.34164 17.45479 17.56787 17.68088 17.79382 17.90668 18.01948 18.13219 18.24485 18.35742 18.46992 18.58236 18.69472 18.80699 18.91920 19.03133 19.14339 19.25536 19.36727 19.47910 19.59085 19.70251 19.81411 19.92562 20.03706 20.14841 20.25970 20.37090 20.48201 20.59306 20.70401 20.81489 20.92568 21.03639 21.14703 21.25757 21.36804 21.47842 21.58871 21.69893 21.80906 21.91911 22.02907 22.13894 22.24873 22.35843 22.46805 22.57758 22.68702 22.79638 22.90565 23.01483 23.12392 23.23293 23.34184 23.45066 23.55940 23.66805 23.77660 23.88506 23.99344 24.10172 24.20992 24.31801 24.42602 24.53394 24.64175 24.74949 24.85712 24.96466 25.07211 25.17947 25.28673 25.39389 25.50097 25.60794 25.71482 25.82160 25.92829 26.03488
zdef 21 levels 8.05653 28.2116 60.5102 121.273 243.749 450.616 746.467 1093.96 1500.06 2018.99 2614.64 3246.47 3920.92 4645.64 5428.62 6279.77 7212.91 8344.93 9854.04 11966 14817.4
tdef 385 linear 00Z02MAR2006 3hr
vars 107
SO2=>so2 21 t,z,y,x SO2 (ppbv)
H2SO4=>so4 21 t,z,y,x SO4
HNO3=>hno3 21 t,z,y,x HNO3
HONO=>hno2 21 t,z,y,x HONO
HCHO=>hcho 21 t,z,y,x formadehyle
PAN=>pan 21 t,z,y,x PAN
PAN2=>pan2 21 t,z,y,x PAN2
PBZN=>pbzn 21 t,z,y,x PBZN
MA_PAN=>mpan 21 t,z,y,x MA_PAN
CO=>co 21 t,z,y,x CO
O3=>o3 21 t,z,y,x O3
NO=>no 21 t,z,y,x NO
NO2=>no2 21 t,z,y,x NO2
OH=>oh 21 t,z,y,x HO
HO2=>ho2 21 t,z,y,x HO2
ETHENE=>ethe 21 t,z,y,x Ethene
H2O2=>h2o2 21 t,z,y,x H2O2
C2H6=>c2h6 21 t,z,y,x C2H6
N2O5=>n2o5 21 t,z,y,x N2O5
C3H8=>c3h8 21 t,z,y,x C3H8
C2H2=>c2h2 21 t,z,y,x ALK2
C3H6=>c3h6 21 t,z,y,x C3H6
ARO1=>aro1 21 t,z,y,x ARO1
ARO2=>aro2 21 t,z,y,x ARO2
CCHO=>ccho 21 t,z,y,x CCHO
RCHO=>ccho 21 t,z,y,x RCHO
ACET=>acet 21 t,z,y,x Acetone
MEK=>mek 21 t,z,y,x other Ketones
RNO3=>rno3 21 t,z,y,x RNO3
ALK3=>alk3 21 t,z,y,x ALK3
ALK4=>alk4 21 t,z,y,x ALK4
ALK5=>alk5 21 t,z,y,x ALK5
OLE1=>ole1 21 t,z,y,x OLE1
OLE2=>ole2 21 t,z,y,x OLE2
TERP=>terp 21 t,z,y,x Terpene
ISOPRENE=>isop 21 t,z,y,x Isoprene
ISOPROD=>isoprod 21 t,z,y,x Isoprene products
PROD2=>prod2 21 t,z,y,x Ketones and other non-aldehyde oxygenated products
METHACRO=>methacro 21 t,z,y,x Methacrolein
NO3=>no3 21 t,z,y,x NO3
HNO4=>hno4 21 t,z,y,x HNO4
CCO_OH=>ccooh 21 t,z,y,x CCO_OH
MVK=>mvk 21 t,z,y,x MVK
NH3=>nh3 21 t,z,y,x NH3
BC1=>bc1 21 t,z,y,x Black Carbon 1
BC2=>bc2 21 t,z,y,x Black Carbon 2
OC1=>oc1 21 t,z,y,x Organic Carbon 1
OC2=>oc2 21 t,z,y,x Organic Carbon 2
DUST1=>dust1 21 t,z,y,x Dust 1
DUST2=>dust2 21 t,z,y,x Dust 2
DUST3=>dust3 21 t,z,y,x Dust 3
DUST4=>dust4 21 t,z,y,x Dust 4
OPM25=>opm25 21 t,z,y,x other PM2.5
OPM10=>opm10 21 t,z,y,x other PM10
Cl1=>cl1 21 t,z,y,x Cl 1
Cl2=>cl2 21 t,z,y,x Cl 2
Cl3=>cl3 21 t,z,y,x Cl 3
Cl4=>cl4 21 t,z,y,x Cl 4
SO41=>so41 21 t,z,y,x SO4 1
SO42=>so42 21 t,z,y,x SO4 2
SO43=>so43 21 t,z,y,x SO4 3
SO44=>so44 21 t,z,y,x SO4 4
NH41=>nh41 21 t,z,y,x NH4 1
NH42=>nh42 21 t,z,y,x NH4 2
NH43=>nh43 21 t,z,y,x NH4 3
NH44=>nh44 21 t,z,y,x NH4 4
NO31=>no31 21 t,z,y,x NO3 1
NO32=>no32 21 t,z,y,x NO3 2
NO33=>no33 21 t,z,y,x NO3 3
NO34=>no34 21 t,z,y,x NO3 4
Ca1=>ca1 21 t,z,y,x Ca 1
Ca2=>ca2 21 t,z,y,x Ca 2
Ca3=>ca3 21 t,z,y,x Ca 3
Ca4=>ca4 21 t,z,y,x Ca 4
K1=>k1 21 t,z,y,x K 1
K2=>k2 21 t,z,y,x K 2
K3=>k3 21 t,z,y,x K 3
K4=>k4 21 t,z,y,x K 4
Na1=>na1 21 t,z,y,x Na 1
Na2=>na2 21 t,z,y,x Na 2
Na3=>na3 21 t,z,y,x Na 3
Na4=>na4 21 t,z,y,x Na 4
CO31=>co31 21 t,z,y,x CO3 1
CO32=>co32 21 t,z,y,x CO3 2
CO33=>co33 21 t,z,y,x CO3 3
CO34=>co34 21 t,z,y,x CO3 4
Mg1=>mg1 21 t,z,y,x Mg 1
Mg2=>mg2 21 t,z,y,x Mg 2
Mg3=>mg3 21 t,z,y,x Mg 3
Mg4=>mg4 21 t,z,y,x Mg 4
CH2O1=>ch2o1 21 t,z,y,x Condensed H2O 1
CH2O2=>ch2o2 21 t,z,y,x Condensed H2O 2
CH2O3=>ch2o3 21 t,z,y,x Condensed H2O 3
CH2O4=>ch2o4 21 t,z,y,x Condensed H2O 4
AOE-TOTAL=>taoe 21 t,z,y,x Total AOE
AOE-BC=>bcaoe 21 t,z,y,x BC AOE
AOE-OC=>ocaoe 21 t,z,y,x OC AOE
AOE-SO4=>so4aoe 21 t,z,y,x Sulfate AOE
S-ALBEDO=>salbedo 21 t,z,y,x Single Scattering Albedo
NH42SO41=>nh42so41 21 t,z,y,x NH42SO4 1
NH42SO42=>nh42so42 21 t,z,y,x NH42SO4 2
NH42SO43=>nh42so43 21 t,z,y,x NH42SO4 3
NH42SO44=>nh42so44 21 t,z,y,x NH42SO4 4
NH4NO31=>nh4no31 21 t,z,y,x NH4NO3 1
NH4NO32=>nh4no32 21 t,z,y,x NH4NO3 2
NH4NO33=>nh4no33 21 t,z,y,x NH4NO3 3
NH4NO34=>nh4no34 21 t,z,y,x NH4NO3 4
endvars
