dset /data/raid2/users/INTEXB-input/meteo-109x68/meteo2d.Apr-2k6.109x68.nc
dtype netcdf
title 2-D field in WRF Hawaii domain
undef -99999.0
xdef 109 linear 158.7899 0.5779648
ydef 68 levels 1.057121 1.634926 2.212563 2.789978 3.367104 3.943886 4.520271 5.096199 5.671616 6.246452 6.820663 7.394180 7.966957 8.538933 9.110054 9.680267 10.24950 10.81773 11.38487 11.95090 12.51573 13.07934 13.64165 14.20264 14.76224 15.32040 15.87707 16.43221 16.98576 17.53770 18.08795 18.63648 19.18326 19.72822 20.27132 20.81253 21.35181 21.88911 22.42439 22.95762 23.48875 24.01775 24.54459 25.06921 25.59161 26.11173 26.62955 27.14503 27.65815 28.16887 28.67716 29.18299 29.68635 30.18720 30.68551 31.18127 31.67444 32.16501 32.65295 33.13824 33.62086 34.10080 34.57803 35.05253 35.52429 35.99330 36.45953 36.92299
zdef 21 levels 8.05653 28.2116 60.5102 121.273 243.749 450.616 746.467 1093.96 1500.06 2018.99 2614.64 3246.47 3920.92 4645.64 5428.62 6279.77 7212.91 8344.93 9854.04 11966 14817.4
tdef 2721 linear 18Z08APR2006 3hr
vars 20
PRATE=>prate 0 t,z,y,x Precipitation rate (mm/hr)
USTAR=>ustar 0 t,z,y,x fritional speed (m/s)
PBLHT=>pbl 0 t,z,y,x PBL HEIGHT (M)
WSTAR=>wstar 0 t,z,y,x WSTAR (m/s)
MOL=>mol 0 t,z,y,x Monin-Obukhov Length (m)
TSKIN=>tskin 0 t,z,y,x Ground Temperature (K)
CCOVER=>ccover 0 t,z,y,x Cloud coverage
P=>p 0 t,z,y,x surface pressure (Pa)
T=>temp 0 t,z,y,x surface air temperature (K)
TSOIL=>tsoil 0 t,z,y,x Top Soil Temperature (K)
SMOIS=>smois 0 t,z,y,x Top Soil Moisture m3/m3
SWDOWN=>swdown 0 t,z,y,x DOWNWARD SHORT WAVE FLUX AT GROUND SURFACE (W/m2)
GLW=>glw 0 t,z,y,x DOWNWARD LONG WAVE FLUX AT GROUND SURFACE (W/m2)
DUST=>dust 0 t,z,y,x Dust emission (gram/cm^2/sec)
U10=>u10 0 t,z,y,x U 10 meter (m/s)
V10=>v10 0 t,z,y,x v 10 meter (m/s)
SS1=>ss1 0 t,z,y,x Sea Salt (diameter 0.1-0.3 um) Emission (molecules/cm^2/sec)
SS2=>ss2 0 t,z,y,x Sea Salt (diameter 0.3-1.0 um) Emission (molecules/cm^2/sec)
SS3=>ss3 0 t,z,y,x Sea Salt (diameter 1.0-2.5 um) Emission (molecules/cm^2/sec)
SS4=>ss4 0 t,z,y,x Sea Salt (diameter 2.5-10. um) Emission (molecules/cm^2/sec)
endvars
