dset /data/raid2/users/INTEXB-input/meteo-314x200/meteo3d-110-2k6.314x200.nc
dtype netcdf
title WRF trans-Pacific domain
undef -99999.0
xdef 314 linear 1. 1.
ydef 200 linear 1. 1.
zdef 21 levels 8.89238 31.1402 66.7989 133.937 269.402 498.531 826.897 1213.35 1666.26 2247.88 2920.9 3643.43 4424.39 5273.56 6204.5 7235.83 8392.81 9843.5 11874.6 15043.2 21868.8
*in GMT
tdef 2721 linear 18Z20APR2006 6hr
vars 11
U=>u 21 t,z,y,x U (m/s)
V=>v 21 t,z,y,x V
W=>w 21 t,z,y,x W
T=>temp 21 t,z,y,x T(k)
P=>p 21 t,z,y,x P (Pa)
CLDFRA=>cldfra 21 t,z,y,x Cloud Fraction
KV=>kv 21 t,z,y,x Horizontal diffusion coefficint (m/s^2)
KH=>kh 21 t,z,y,x Vertical diffusion coefficint (m/s^2)
RWATER=>rw 21 t,z,y,x Rain water mixing rate (kg/kg)
CWATER=>cw 21 t,z,y,x Cloud water mixing rate (kg/kg)
VAPOR=>vapor 21 t,z,y,x water vapor mixing ration (kg/kg)
endvars
