dset /data/raid2/users/INTEXB-output/04-13-314x200/TROUT.%m2-%d2-00.nc
dtype netcdf
title 3D TRACER species
undef -99999.0
options template
xdef 314 linear 1. 1.
ydef 200 linear 1. 1.
zdef 21 levels 8.89238 31.1402 66.7989 133.937 269.402 498.531 826.897 1213.35 1666.26 2247.88 2920.9 3643.43 4424.39 5273.56 6204.5 7235.83 8392.81 9843.5 11874.6 15043.2 21868.8
tdef 385 linear 00Z13APR2006 6hr
vars 34
SO2=>so2 21 t,z,y,x SO2 (ppbv)
VSO2=>vso2 21 t,z,y,x Volcano SO2
SO2LPS=>so2lps 21 t,z,y,x SO2 LPS
NOX=>nox 21 t,z,y,x NOx
NOxLPS=>noxlps 21 t,z,y,x NOx LPS
NOY=>noy 21 t,z,y,x NOy
HC1=>hc1 21 t,z,y,x HC1
HC2=>hc2 21 t,z,y,x HC2
HC3=>hc3 21 t,z,y,x HC3
CO=>co 21 t,z,y,x CO
BIOMCO=>biomco 21 t,z,y,x BB CO North America
CO_TRACER1=>bbsa 21 t,z,y,x BB CO South Asia
CO_TRACER2=>bbna 21 t,z,y,x BB CO North Asia
CO_TRACER3=>canada 21 t,z,y,x CO tracer
CO_TRACER4=>alaska 21 t,z,y,x CO tracer
CO_TRACER5=>hawaii 21 t,z,y,x CO tracer
CO_TRACER6=>conus 21 t,z,y,x CO tracer
CO_TRACER7=>russia 21 t,z,y,x CO tracer
CO_TRACER8=>westasia 21 t,z,y,x CO tracer
CO_TRACER9=>southasia 21 t,z,y,x CO tracer
CO_TRACER10=>seasia 21 t,z,y,x CO tracer
CO_TRACER11=>china 21 t,z,y,x CO tracer
CO_TRACER12=>japan 21 t,z,y,x CO tracer
SULF=>sulf 21 t,z,y,x Sulfate
BC1=>bc1 21 t,z,y,x Black Carbon (ug/m3)
OC1=>oc1 21 t,z,y,x Organic Carbon
BC2=>bc2 21 t,z,y,x Black Carbon (ug/m3)
OC2=>oc2 21 t,z,y,x Organic Carbon
DUST1=>dust1 21 t,z,y,x Dust 1
DUST2=>dust2 21 t,z,y,x Dust 2
OPM25=>opm25 21 t,z,y,x other PM2.5
OPM10=>opm10 21 t,z,y,x other PM10
SSF=>SSF 21 t,z,y,x Fine Sea Salt
SSC=>SSC 21 t,z,y,x Coarse Sea Salt
endvars
