dset /data/raid2/users/INTEXB-input/meteo-136x206/meteo3d-129-2k6.136x206.nc
dtype netcdf
title WRF trans-Pacific domain
undef -99999.0
xdef 136 linear 1. 1.
ydef 206 linear 1. 1.
zdef 21 levels 8.05653 28.2116 60.5102 121.273 243.749 450.616 746.467 1093.96 1500.06 2018.99 2614.64 3246.47 3920.92 4645.64 5428.62 6279.77 7212.91 8344.93 9854.04 11966 14817.4
*in GMT
tdef 2721 linear 18Z09MAY2006 3hr
vars 11
U=>u 21 t,z,y,x U (m/s)
V=>v 21 t,z,y,x V
W=>w 21 t,z,y,x W
T=>temp 21 t,z,y,x T(k)
P=>p 21 t,z,y,x P (Pa)
CLDFRA=>cldfra 21 t,z,y,x Cloud Fraction
KV=>kv 21 t,z,y,x Horizontal diffusion coefficint (m/s^2)
KH=>kh 21 t,z,y,x Vertical diffusion coefficint (m/s^2)
RWATER=>rw 21 t,z,y,x Rain water mixing rate (kg/kg)
CWATER=>cw 21 t,z,y,x Cloud water mixing rate (kg/kg)
VAPOR=>vapor 21 t,z,y,x water vapor mixing ration (kg/kg)
endvars
