dset /data/raid2/users/MIRAGE-output/03-26-100x64/TROUT.%m2-%d2-00.nc
dtype netcdf
title 3D STEM gaseous species
undef -99999.0
options template
xdef 100 linear -129.2471 0.5928715
ydef 64 levels 6.570786 7.159401 7.747269 8.334305 8.920464 9.505684 10.08990 10.67307 11.25512 11.83599 12.41563 12.99399 13.57099 14.14661 14.72076 15.29340 15.86449 16.43397 17.00179 17.56788 18.13221 18.69472 19.25537 19.81412 20.37090 20.92568 21.47842 22.02907 22.57758 23.12392 23.66805 24.20992 24.74950 25.28674 25.82161 26.35407 26.88410 27.41166 27.93670 28.45921 28.97915 29.49648 30.01119 30.52324 31.03261 31.53926 32.04319 32.54435 33.04273 33.53831 34.03106 34.52097 35.00801 35.49217 35.97343 36.45177 36.92719 37.39965 37.86916 38.33569 38.79924 39.25979 39.71734 40.17187
zdef 21 levels 8.05653 28.2116 60.5102 121.273 243.749 450.616 746.467 1093.96 1500.06 2018.99 2614.64 3246.47 3920.92 4645.64 5428.62 6279.77 7212.91 8344.93 9854.04 11966 14817.4
tdef 385 linear 00Z26MAR2006 3hr
vars 36
SO2=>so2 21 t,z,y,x SO2 (ppbv)
VSO2=>vso2 21 t,z,y,x Volcano SO2
SO2LPS=>so2lps 21 t,z,y,x SO2 LPS
NOX=>nox 21 t,z,y,x NOx
NOxLPS=>noxlps 21 t,z,y,x NOx LPS
NOY=>noy 21 t,z,y,x NOy
HC1=>hc1 21 t,z,y,x HC1
HC2=>hc2 21 t,z,y,x HC2
HC3=>hc3 21 t,z,y,x HC3
TVOC=>tvoc 21 t,z,y,x TVOC
CO=>co 21 t,z,y,x CO
BIOMCO=>biomco 21 t,z,y,x BB CO
CO_TRACER1=>tracer1 21 t,z,y,x BB CO
CO_TRACER2=>california 21 t,z,y,x CO tracer
CO_TRACER3=>nvut 21 t,z,y,x CO tracer
CO_TRACER4=>texas 21 t,z,y,x CO tracer
CO_TRACER5=>csouth 21 t,z,y,x CO tracer
CO_TRACER6=>southeast 21 t,z,y,x CO tracer
CO_TRACER7=>east 21 t,z,y,x CO tracer
CO_TRACER8=>mexcity 21 t,z,y,x CO tracer
CO_TRACER9=>nmexico 21 t,z,y,x CO tracer
CO_TRACER10=>smexico 21 t,z,y,x CO tracer
CO_TRACER11=>camerica 21 t,z,y,x CO tracer
CO_TRACER12=>asia 21 t,z,y,x CO tracer
CO_TRACER13=>shbb 21 t,z,y,x CO tracer
CO_TRACER14=>vocco 21 t,z,y,x CO tracer
CO_TRACER15=>biogco 21 t,z,y,x CO tracer
SULF=>sulf 21 t,z,y,x Sulfate
BC=>bc 21 t,z,y,x Black Carbon (ug/m3)
OC=>oc 21 t,z,y,x Organic Carbon
DUST1=>dust1 21 t,z,y,x Dust 1
DUST2=>dust2 21 t,z,y,x Dust 2
OPM25=>opm25 21 t,z,y,x other PM2.5
OPM10=>opm10 21 t,z,y,x other PM10
SSF=>SSF 21 t,z,y,x Fine Sea Salt
SSC=>SSC 21 t,z,y,x Coarse Sea Salt
endvars
