dset /data/raid2/users/MIRAGE-input/meteo-100x64/meteo3d-43-2k6.100x64.nc
dtype netcdf
title WRF MIRAGE main domain
undef -99999.0
xdef 100 linear -129.2471 0.5928715
ydef 64 levels 6.570786 7.159401 7.747269 8.334305 8.920464 9.505684 10.08990 10.67307 11.25512 11.83599 12.41563 12.99399 13.57099 14.14661 14.72076 15.29340 15.86449 16.43397 17.00179 17.56788 18.13221 18.69472 19.25537 19.81412 20.37090 20.92568 21.47842 22.02907 22.57758 23.12392 23.66805 24.20992 24.74950 25.28674 25.82161 26.35407 26.88410 27.41166 27.93670 28.45921 28.97915 29.49648 30.01119 30.52324 31.03261 31.53926 32.04319 32.54435 33.04273 33.53831 34.03106 34.52097 35.00801 35.49217 35.97343 36.45177 36.92719 37.39965 37.86916 38.33569 38.79924 39.25979 39.71734 40.17187
zdef 21 levels 8.05653 28.2116 60.5102 121.273 243.749 450.616 746.467 1093.96 1500.06 2018.99 2614.64 3246.47 3920.92 4645.64 5428.62 6279.77 7212.91 8344.93 9854.04 11966 14817.4
*in GMT
tdef 2721 linear 00Z12FEB2006 3hr
vars 11
U=>u 21 t,z,y,x U (m/s)
V=>v 21 t,z,y,x V
W=>w 21 t,z,y,x W
T=>temp 21 t,z,y,x T(k)
P=>p 21 t,z,y,x P (Pa)
CLDFRA=>cldfra 21 t,z,y,x Cloud Fraction
KV=>kv 21 t,z,y,x Horizontal diffusion coefficint (m/s^2)
KH=>kh 21 t,z,y,x Vertical diffusion coefficint (m/s^2)
RWATER=>rw 21 t,z,y,x Rain water mixing rate (kg/kg)
CWATER=>cw 21 t,z,y,x Cloud water mixing rate (kg/kg)
VAPOR=>vapor 21 t,z,y,x water vapor mixing ration (kg/kg)
endvars
