dset /data/raid1/Tang-input/apmex2k5-in/meteo2d.current.apmex2k5-90x60.nc
dtype netcdf
title METEO2d for STEM
undef -99999.0
xdef 90 linear 1 1
ydef 60 linear 1 1
zdef 18 levels 75. 240. 438. 675.6 960.72 1302.864 1713.437 2206.124 2797.349 3506.819 4358.183 5379.819 6605.783 8076.94 9779.389 11579.39 13379.39 15179.39
tdef 437 linear 00Z10MAR2005 3hr
vars 12
PRATE=>prate 0 t,z,y,x Precipitation rate (mm/hr)
USTAR=>ustar 0 t,z,y,x fritional speed (m/s)
PBLHT=>pbl 0 t,z,y,x PBL HEIGHT (M)
WSTAR=>wstar 0 t,z,y,x WSTAR (m/s)
MOL=>mol 0 t,z,y,x Monin-Obukhov Length (m)
TGROUND=>tg 0 t,z,y,x Ground Temperature (K)
DUST=>dust 0 t,z,y,x Dust emission (gram/cm^2/sec)
SS1=>ss1 0 t,z,y,x Sea Salt (diameter 0.1-0.3 um) Emission (molecules/cm^2/sec)
SS2=>ss2 0 t,z,y,x Sea Salt (diameter 0.3-1.0 um) Emission (molecules/cm^2/sec)
SS3=>ss3 0 t,z,y,x Sea Salt (diameter 1.0-2.5 um) Emission (molecules/cm^2/sec)
SS4=>ss4 0 t,z,y,x Sea Salt (diameter 2.5-10. um) Emission (molecules/cm^2/sec)
SPEED10m=>speed10 0 t,z,y,x 10-meter wind (m/s)
endvars
